Workbook

Sheet المتغيرات
E2: مسابقة برنامج " المحكم "
E3: المتغيـــرات
E5: المؤسسات واللجن | F5: الأعضاء/الصفة | G5: العدد | H5: تعويض يوم عمل واحد بالدولار | I5: عدد أيام العمل المحتملة | J5: التكلفة الإجمالية بالدولار
D6: شركاء المشروع | E6: المركز المغربي للأبحاث والدراسات التربوية | F6: المركز المغربي للأبحاث والدراسات التربوية | G6: 1 | H6: 50 | I6: 110 | J6: =I6*H6 -> 5500
E7: مكتب الدراسات استراتيجيا بالمغرب | F7: مكتب الدراسات استراتيجيا بالمغرب. | G7: 1 | H7: 100 | I7: 55 | J7: =I7*H7*G7 -> 5500
E8: شركة متخصصة في البرمجيات | F8: شركةمتخصصة في البرمجيات | G8: 1 | H8: 100 | I8: 150 | J8: 15000
E9: شركة متخصصة في مجال السمعي البصري | F9: شركةمتخصصة في مجال الإعلام والاتصال. | G9: 1 | H9: 1000 | I9: 15 | J9: =H9*G9*I9 -> 15000
E10: المجموع | J10: =SUM(J6:J9) -> 41000
D11: اللجن الوظيفية للمسابقة | E11: لجنة الإشراف الوطنية | F11: مدير | G11: 1 | H11: 100 | I11: 22 | J11: =H11*I11*G11 -> 2200
F12: مسؤول إداري ومالي | G12: 1 | H12: 75 | I12: 22 | J12: =H12*I12*G12 -> 1650
F13: مسؤول تربوي | G13: 1 | H13: 75 | I13: 22 | J13: =H13*I13*G13 -> 1650
F14: مسؤول تقني | G14: 1 | H14: 75 | I14: 22 | J14: =H14*I14*G14 -> 1650
E15: المجموع | J15: =SUM(J11:J14) -> 7150
E16: لجن الإشراف على صعيد منطقات المملكة | F16: مدير | G16: 1 | H16: 80 | I16: 22 | J16: =H16*I16*G16 -> 1760
F17: مسؤول إداري ومالي | G17: 1 | H17: 50 | I17: 22 | J17: =H17*I17*G17 -> 1100
F18: مسؤول تربوي | G18: 1 | H18: 50 | I18: 22 | J18: =H18*I18*G18 -> 1100
F19: مسؤول تقني | G19: 1 | H19: 50 | I19: 22 | J19: =H19*I19*G19 -> 1100
E20: المجموع | J20: =SUM(J16:J19) -> 5060
E21: لجنة الإشراف المحلية بمؤسسة التجريب | F21: مدير المؤسسة التعليمية التجريبية | G21: 1 | H21: 20 | I21: 15 | J21: =H21*I21*G21 -> 300
F22: منسق النادي التربوي بالمؤسسة | G22: 1 | H22: 20 | I22: 10 | J22: =H22*I22*G22 -> 200
E23: المجموع | J23: =SUM(J21:J22) -> 500
E24: التكوينات | F24: لجنة الإشراف الوطنية مع لجنة التحكيم الوطنية | G24: 1 | H24: 500 | I24: 1 | J24: =H24*I24*G24 -> 500
F25: لجنة الإشراف بالمنطقة مع لجنة التحكيم على صعيد المنطقة | G25: 1 | H25: 500 | I25: 1 | J25: =H25*I25*G25 -> 500
F26: لجنة الإشراف المحلية مع التحكيم المحلية. | G26: 1 | H26: 200 | I26: 1 | J26: =H26*I26*G26 -> 200
E27: المجموع | J27: =SUM(J24:J26) -> 1200
E28: لجن التحكيم | F28: لجنة التحكيم الوطنية | G28: 2 | H28: 250 | I28: 3 | J28: =H28*I28*G28 -> 1500
F29: لجنة التحكيم على صعيد المنطقة | G29: 2 | H29: 150 | I29: 3 | J29: =H29*I29*G29 -> 900
F30: تعويض لجنة التحكيم المحلية. | G30: 2 | H30: 75 | I30: 5 | J30: =H30*I30*G30 -> 750
E31: المجموع | J31: =SUM(J28:J30) -> 3150
E32: جائزة المنطقة "المركز الثاني" | F32: المشارك | G32: 1 | H32: 250 | J32: =H32*G32 -> 250
F33: منسق النادي | G33: 1 | H33: 100 | J33: =H33*G33 -> 100
E34: جائزة المنطقة "المركز الثالث" | F34: المشارك | G34: 1 | H34: 200 | J34: =H34*G34 -> 200
F35: منسق النادي | G35: 1 | H35: 100 | J35: =H35*G35 -> 100
E36: الجائزة المنطقة "المركز الرابع" | F36: المشارك | G36: 1 | H36: 150 | J36: =H36*G36 -> 150
F37: منسق النادي | G37: 1 | H37: 100 | J37: =H37*G37 -> 100
E38: المجموع | J38: =SUM(J32:J37) -> 900
E39: الجائزة الوطنية "المركز الأول" | F39: المشارك | G39: 1 | H39: 400 | J39: =H39*G39 -> 400
F40: منسق النادي | G40: 1 | H40: 100 | J40: =H40*G40 -> 100
E41: الجائزة الوطنية "المركز الثاني" | F41: المشارك | G41: 1 | H41: 350 | J41: =H41*G41 -> 350
F42: منسق النادي | G42: 1 | H42: 100 | J42: =H42*G42 -> 100
...

Sheet ميزانية الاعداد
D2: مسابقة برنامج " المحكم "
D3: ميزانية الإعداد
C5: مراحل المشروع | D5: الأهداف | E5: العمليات | F5: المتدخلون | G5: المسؤول | H5: عدد أيام الاشتغال | I5: التكلفة المالية بالدولار | J5: المجموع
C7: المرحلة الأولى: الإعداد والتسويق. | D7: إعداد وثيقة المشروع | E7: إعداد فريق العمل؛ | F7: شركة نهى ميديا؛ المركز المغربي للأبحاث والدراسات التربوية؛ مكتب استراتيجيا. | G7: شركة نهى ميديا. | H7: 22 | I7: 1000 | J7: 1000
E8: الإعداد التصور الأولي لوثيقة المشروع؛ | I8: 1000
E9: تنظيم أيام دراسية تحت إشراف خبراء. | I9: 1000
D10: تجريب فكرة المشروع | E10: تنظيم مسابقات بعشر مؤسسات تعليمية مغربية وتصويرها. | F10: شركة نهى ميديا؛ لجن علمية وفنية؛ لجن تنظيمية؛ تلاميذ المؤسسات التعليمية. | G10: شركة نهى ميديا. | H10: 10 | I10: =H10*1000 -> 10000 | J10: 8000
D11: تسويق فكرة المشروع | E11: التنقلات والاتصالات والإقامة. | F11: شركة نهى ميديا. | G11: شركة نهى ميديا. | H11: 25 | I11: 4000 | J11: =SUM(I11,I12) -> 5000
E12: التفاوض والتعاقد | I12: 1000
C13: التكلفة الإجمالية لإعداد المشروع | J13: =SUM(J7:J12) -> 14000

Sheet ميزانية اشتغال ورشةواحدة
F2: مسابقة برنامج " المحكم "
F3: ميزانية اشتغال ورشة واحدة
D5: مراحل المشروع | E5: الأهداف | F5: العمليات | G5: المتدخلون | H5: المسؤول | I5: عدد أيام الاشتغال | J5: ميزانية ورشة واحدة للمسابقة
J6: التكلفة المالية المتوقعة لكل عملية بالمسابقة بالدولار | K6: التكلفة المالية المتوقعة لكل مرحلة بالدولار
D7: السنة الأولى: تجريب المسابقة بمنطقة واحدة للدولة الحاضنة. | E7: الإعداد الاستراتيجي والتنظيمي لهياكل المسابقة. | F7: إعداد البنية التنظيمية للمشروع: تشكيل اللجنة الوطنية للمشروع بالدولة الحاضنة للمشروع. | G7: اللجنة الوطنية للمشروع؛ شركة نهى ميديا. | H7: اللجنة الوطنية للمشروع | I7: 44 | J7: =المتغيرات!$J$15 -> 7150 | K7: =SUM(J7:J13) -> 63650
F8: إعداد البرنامج التربوي للقيم القرآنية المجتمعية مع متابعة تنفيذه. | G8: شركة نهى ميديا؛ المركز المغربي للأبحاث والدراسات التربوية. | H8: شركة نهى ميديا. | I8: =[1]المتغيرات!$F$2 -> 110 | J8: =المتغيرات!$J$6 -> 5500
F9: صياغة المخطط الاستراتيجي وخطة الأعمال Business Plan للمشروع . | G9: شركة نهى ميديا؛ مكتب الدراسات استراتيجيا بالمغرب. | H9: شركة نهى ميديا. | I9: =المتغيرات!$I$7 -> 55 | J9: =المتغيرات!$J$7 -> 5500
F10: إنشاء موقع إلكتروني للمسابقة. | G10: شركة نهى ميديا؛ شركة متخصصة في مجال الإعلام والاتصال. | H10: شركة نهى ميديا. | I10: =[1]المتغيرات!$F$3 -> 198 | J10: =المتغيرات!$J$9 -> 15000
F11: التعاقد مع شركةمتخصصة في البرمجيات, | G11: شركة نهى ميديا؛ شركةمتخصصة في البرمجيات | H11: شركة نهى ميديا. | I11: 150 | J11: =المتغيرات!$J$8 -> 15000
F12: التعاقد مع شركة متخصصة في المجال السمعي البصري | G12: شركة نهى ميديا؛ شركةمتخصصة في البرمجيات, | H12: شركة نهى ميديا. | I12: =المتغيرات!$I$9 -> 15 | J12: =المتغيرات!$J$9 -> 15000
F13: تدريب أعضاء اللجنة الوطنية للمشروع على تشغيل الموقع وسير المسابقة. | G13: شركة نهى ميديا؛ شركة الإعلاميات؛ لجنة الإشراف الوطنية للمسابقة. | H13: شركة نهى ميديا؛ | I13: 1 | J13: =المتغيرات!$J$24 -> 500
E14: تجريب المسابقة بمنطقة واحدة "عشر مؤسسات تعليمية" بالدولة الحاضنة للمشروع. | F14: تشكيل لجن الإشراف على المسابقة على مستوى مؤسسات التجريب. | G14: اللجنة الوطنية للمشروع؛ وزارة التعليم بالدولة الحاضنة للمشروع؛ شركة نهى ميديا. | H14: اللجنة الوطنية للمشروع. | I14: 22 | J14: =المتغيرات!$J$23*10 -> 5000 | K14: =SUM(J14:J18) -> 7410
F15: تشكيل لجنة تحكيم المسابقة بمؤسسات التجريب. | G15: اللجنة الوطنية للمشروع؛ شركة نهى ميديا. | H15: اللجنة الوطنية للمشروع. | I15: 2 | J15: =المتغيرات!$J$30 -> 750
F16: تكوين فرق إشراف مؤسسات التجريب ولجنة التحكيم المحلية. | G16: اللجنة الوطنية للمشروع؛ شركة نهى ميديا. | H16: اللجنة المركزية للمشروع. | I16: 1 | J16: =المتغيرات!$J$26 -> 200
F17: التنظيم واللوجستيك الخاص بحفل المسابقة على صعيد منطقة التجريب. | G17: فريق الإشراف المحلي؛ لجنة التنظيم؛ شركة نهى ميديا. | H17: فريق الإشراف المحلي. | I17: 1 | J17: =المتغيرات!$J$60 -> 560
F18: جوائز حفل تتويج المشاركين بمنطقة التجريب. | G18: اللجنة الوطنية للمشروع؛ فريق الإشراف المحلي؛ لجنة التنظيم المحلية؛ تلاميذ مؤسسة التجريب؛ شركة نهى ميديا. | H18: فريق الإشراف المحلي. | I18: 1 | J18: =المتغيرات!$J$38 -> 900
D19: السنة الثانية: تعميم المسابقة وطنيا. | E19: تعميم المسابقة وطنيا بالمؤسسات التعليمية داخل الدولة الحاضنة للمشروع. | F19: تشكيل واشتغال أعضاء لجنة الإشراف الوطنية على المسابقة. | G19: اللجنة الوطنية للمشروع؛ لجنة الإشراف الوطنية؛ شركة نهى ميديا. | H19: اللجنة الوطنية للمشروع بالدولة الحاضنة للمشروع. | I19: =[1]المتغيرات!$F$12 -> 22 | J19: =المتغيرات!$J$15 -> 7150 | K19: =SUM(J19:J29) -> 118880
F20: تشكيل واشتغال لجنة تحكيم المسابقة الوطنية. | G20: لجنة الإشراف الوطنية؛ شركة نهى ميديا. | H20: لجنة الإشراف الوطنية. | I20: =[1]المتغيرات!$F$26 -> 1 | J20: =المتغيرات!$J$28 -> 1500
F21: تكوين لجنتي الإشراف والتحكيم الوطنيتين. | G21: لجنة الإشراف الوطنية؛ لجنة التحكيم الوطنية؛ شركة نهى ميديا. | H21: لجنة الإشراف الوطنية. | I21: 1 | J21: =المتغيرات!$J$25 -> 500
F22: تشكيل واشتغال لجن مناطق المملكة "13 منطقة"؛ | G22: لجنة الإشراف الوطنية؛ وزارة التعليم للدولة الحاضنة؛ شركة نهى ميديا. | H22: لجنة الإشراف الوطنية. | I22: 1 | J22: =المتغيرات!$J$20*13 -> 65780
F23: تشكيل واشتغال لجن التحكيم بمناطق المملكة"13 منطقة",. | G23: لجنة الإشراف الوطنية؛ لجن الإشراف الجهوية؛ شركة نهى ميديا. | H23: لجن الإشراف الجهوية. | I23: 1 | J23: =المتغيرات!$J$29*13 -> 11700
F24: تكوين لجن الإشراف والتحكيم بمناطق المملكة. | G24: لجنة الإشراف الوطنية؛ لجن الإشراف الجهوية؛ لجن التحكيم الجهوية؛ شركة نهى ميديا. | H24: لجنة الإشراف الوطنية. | I24: 1 | J24: =المتغيرات!$J$25 -> 500
F25: التنظيم واللوجستيك الخاص بحفل المسابقة بمناطق المملكة. "13 منطقة". | G25: لجنة الإشراف الوطنية؛ لجن الإشراف الجهوية؛ المشاركون ومنسقو الأندية جهويا لجن التنظيم الجهوية؛ شركة نهى ميديا. | H25: لجن الإشراف الجهوية. | I25: 13 | J25: =المتغيرات!$J$57*13 -> 15600
F26: جوائز حفل تتويج المشاركين على صعيد المناطق. "13 منطقة". | G26: لجنة الإشراف الوطنية؛ لجن الإشراف الجهوية؛ المشاركون المتوجون جهويا؛ لجنة التنظيم؛ شركة نهى ميديا. | H26: لجن الإشراف الجهوية. | I26: 13 | J26: =المتغيرات!$J$38*13 -> 11700
F27: التنظيم واللوجستيك الخاص بحفل المسابقة وطنيا. | G27: لجنة الإشراف الوطنية؛ المشاركون ومنسقو الأندية وطنيا؛ لجنة التنظيم الوطنية؛ شركة نهى ميديا. | H27: لجنة الإشراف الوطنية. | I27: 1 | J27: =المتغيرات!$J$52 -> 1600
F28: جوائز حفل تتويج المشاركين وطنيا | G28: لجنة الإشراف الوطنية؛ المشاركون المتوجون؛ لجنة التنظيم؛ شركة نهى ميديا. | H28: لجنة الإشراف الوطنية. | I28: 1 | J28: =المتغيرات!$J$47 -> 2850
F29: تقييم شامل للمسابقة الوطنية بالدولة الحاضنة للمشروع. | G29: اللجنة المركزية للمشروع؛ لجنة الإشراف الوطنية؛ لجن الإشراف الجهوية؛ شركة نهى ميديا. | H29: اللجنة المركزية للمشروع بالدولة الحاضنة للمشروع. | I29: 5 | J29: 0
D30: مجموع الميزانية المتوقعة لاشتغال ورشة واحدة من المسابقة | K30: =SUM(K7:K29) -> 189940
D31: تعويضات الشركة صاحبة المشروع 5% | K31: =K30*0.05 -> 9497
D32: ضريبة تعويضات الشركة صاحبة المشروع "ضريبة الأرباح 20%" | K32: =K31*0.2 -> 1899.4
D33: ميزانية الاعداد | K33: ='ميزانية الاعداد'!$J$13 -> 14000
D34: مجموع تعويضات الشركة صاحبة المشروع | K34: =K31+K32+K33 -> 25396.4
D35: الميزانية الإجمالية للمشروع | K35: =K30+K34 -> 215336.4

Sheet المجمل النهائي
D2: مسابقة برنامج " المحكم "
D3: الميزانية التوقعية
D5: التوقعات المالية لمشروع المحكم خلال سنتين بالدولار
E6: ورشة واحدة
D7: ميزانية الاشتغال | E7: ='ميزانية اشتغال ورشةواحدة'!$K$30 -> 189940
D8: تعويضات الشركة صاحبة المشروع 5% | E8: ='ميزانية اشتغال ورشةواحدة'!$K$31 -> 9497
D9: ضريبة تعويضات الشركة صاحبة المشروع 20% | E9: ='ميزانية اشتغال ورشةواحدة'!$K$32 -> 1899.4
D10: ميزانية الاعداد | E10: ='ميزانية اشتغال ورشةواحدة'!$K$33 -> 14000
D11: مجموع تعويضات الشركة صاحبة المشروع | E11: ='ميزانية اشتغال ورشةواحدة'!$K$34 -> 25396.4
D12: التكلفة الإجمالية المتوقعة بالدولار | E12: ='ميزانية اشتغال ورشةواحدة'!$K$35 -> 215336.4
